BEGIN:VCALENDAR
VERSION:2.0
PRODID:-//Squarespace Inc/Squarespace 6//v6//EN
BEGIN:VEVENT
UID:5f84e6251e9bd37303c369da@squarespace.com
DTSTAMP:20201114T234947Z
DTSTART:20201113T210000Z
DTEND:20201205T030000Z
SUMMARY:Garden Leave
END:VEVENT
END:VCALENDAR
