BEGIN:VCALENDAR
VERSION:2.0
PRODID:-//Squarespace Inc/Squarespace 6//v6//EN
BEGIN:VEVENT
UID:5f8f484f311a054505bc2d1b@squarespace.com
DTSTAMP:20201027T222308Z
DTSTART:20201113T200000Z
DTEND:20201115T030000Z
SUMMARY:ArtJaunt  Workshop
END:VEVENT
END:VCALENDAR
