BEGIN:VCALENDAR
VERSION:2.0
PRODID:-//Squarespace Inc/Squarespace 6//v6//EN
BEGIN:VEVENT
UID:5f5ff99a37fe5c1128ade8d5@squarespace.com
DTSTAMP:20200914T234500Z
DTSTART:20201120T213000Z
DTEND:20201121T023000Z
SUMMARY:Puppet Manipulation
END:VEVENT
END:VCALENDAR
