BEGIN:VCALENDAR
VERSION:2.0
PRODID:-//Squarespace Inc/Squarespace 6//v6//EN
BEGIN:VEVENT
UID:5fc4231f18e72e5fdb5a5a34@squarespace.com
DTSTAMP:20201220T230000Z
DTSTART:20201130T210000Z
DTEND:20210228T105900Z
SUMMARY:Call to exhibit at Toi Pōneke Gallery
END:VEVENT
END:VCALENDAR
