BEGIN:VCALENDAR
VERSION:2.0
PRODID:-//Squarespace Inc/Squarespace 6//v6//EN
BEGIN:VEVENT
UID:5fb06978e44daa6be03a7531@squarespace.com
DTSTAMP:20201209T013817Z
DTSTART:20201211T043000Z
DTEND:20201222T070000Z
SUMMARY:the toi 3 hundy
END:VEVENT
END:VCALENDAR
