BEGIN:VCALENDAR
VERSION:2.0
PRODID:-//Squarespace Inc/Squarespace 6//v6//EN
BEGIN:VEVENT
UID:5dfad947f7c9c21873d68e0f@squarespace.com
DTSTAMP:20200217T020110Z
DTSTART:20191219T210000Z
DTEND:20200223T030000Z
SUMMARY:Toi Pōneke Arts Centre Visual Arts Residency 2020  Call for Applica
 tions
END:VEVENT
END:VCALENDAR
