BEGIN:VCALENDAR
VERSION:2.0
PRODID:-//Squarespace Inc/Squarespace 6//v6//EN
BEGIN:VEVENT
UID:5c8ae15de79c704c059b23ea@squarespace.com
DTSTAMP:20190328T204729Z
DTSTART:20190329T210000Z
DTEND:20190331T050000Z
SUMMARY:Toi Pōneke Art Park at CUBA DUPA
END:VEVENT
END:VCALENDAR
