BEGIN:VCALENDAR
VERSION:2.0
PRODID:-//Squarespace Inc/Squarespace 6//v6//EN
BEGIN:VEVENT
UID:60074cd5243b5a4696842c63@squarespace.com
DTSTAMP:20210119T221530Z
DTSTART:20210205T050000Z
DTEND:20210205T060000Z
SUMMARY:Superimpositions - A Performance
END:VEVENT
END:VCALENDAR
