BEGIN:VCALENDAR
VERSION:2.0
PRODID:-//Squarespace Inc/Squarespace 6//v6//EN
BEGIN:VEVENT
UID:6004fbd10cf85b2daedc152d@squarespace.com
DTSTAMP:20210120T213759Z
DTSTART:20210212T210000Z
DTEND:20210306T030000Z
SUMMARY:Tree Museum
END:VEVENT
END:VCALENDAR
