BEGIN:VCALENDAR
VERSION:2.0
PRODID:-//Squarespace Inc/Squarespace 6//v6//EN
BEGIN:VEVENT
UID:5fd7d32416dce706e37f77da@squarespace.com
DTSTAMP:20201214T221456Z
DTSTART:20210226T210000Z
DTEND:20210227T030000Z
SUMMARY:open day
END:VEVENT
END:VCALENDAR
